BEGIN:VCALENDAR
VERSION:2.0
PRODID:-//Ultra Series WA - ECPv5.3.1.1//NONSGML v1.0//EN
CALSCALE:GREGORIAN
METHOD:PUBLISH
X-WR-CALNAME:Ultra Series WA
X-ORIGINAL-URL:https://ultraserieswa.com.au
X-WR-CALDESC:Events for Ultra Series WA
BEGIN:VTIMEZONE
TZID:Australia/Perth
BEGIN:STANDARD
TZOFFSETFROM:+0800
TZOFFSETTO:+0800
TZNAME:AWST
DTSTART:20210101T000000
END:STANDARD
END:VTIMEZONE
BEGIN:VEVENT
DTSTART;TZID=Australia/Perth:20210813T100000
DTEND;TZID=Australia/Perth:20210816T210000
DTSTAMP:20210226T100203
CREATED:20200525T234348Z
LAST-MODIFIED:20201022T021316Z
UID:1110-1628848800-1629147600@ultraserieswa.com.au
SUMMARY:Birdy's Backyard
DESCRIPTION:An 8’4” Mythical Man once found in the Wilderness of the Great South Western Bushlands of Australia. \nWhen Big Dog’s Backyard Ultra was created\, little did Lazarus Lake know at how phenoniminal the worldwide following would be to witness runners tackle a 6.71klm loop over and over again until the last one standing. \nThere is only 1 winner. Everyone else is guaranteed a dnf. A DID NOT FINISH. If you are not at the starting Corral at the start of each hour\, every hour\, you dnf. Keep going until you drop. A mentally and physically challenging concept like no other. An ultra format like no other. \nAnd yet here we are\, our own World Championship affiliated backyard ultra right here in Western Australia. A 6.71klm loop around Lake Towerinning and respectfully titled after the Mythical legend in Big Birdy. \nWelcome to Birdy’s Backyard Ultra. For more info\, see the website.
URL:https://ultraserieswa.com.au/event/birdys-backyard-2/
LOCATION:Lake Towerinning\, Lake Towerrinning Road\, Moodiarrup\, WA\, Australia
ATTACH;FMTTYPE=image/jpeg:https://ultraserieswa.com.au/wp-content/uploads/2020/05/Birdy3.jpg
ORGANIZER;CN="Ultra%20Series%20WA":MAILTO:shaun@ultraserieswa.com.au
END:VEVENT
END:VCALENDAR