BEGIN:VCALENDAR
VERSION:2.0
PRODID:-//Ultra Series WA - ECPv5.3.1.1//NONSGML v1.0//EN
CALSCALE:GREGORIAN
METHOD:PUBLISH
X-WR-CALNAME:Ultra Series WA
X-ORIGINAL-URL:https://ultraserieswa.com.au
X-WR-CALDESC:Events for Ultra Series WA
BEGIN:VTIMEZONE
TZID:Australia/Perth
BEGIN:STANDARD
TZOFFSETFROM:+0800
TZOFFSETTO:+0800
TZNAME:AWST
DTSTART:20210101T000000
END:STANDARD
END:VTIMEZONE
BEGIN:VEVENT
DTSTART;TZID=Australia/Perth:20210501T150000
DTEND;TZID=Australia/Perth:20210502T150000
DTSTAMP:20210226T100611
CREATED:20200204T020142Z
LAST-MODIFIED:20201128T083258Z
UID:985-1619881200-1619967600@ultraserieswa.com.au
SUMMARY:Light Horse Ultra
DESCRIPTION:Here’s some sobering statistics for you: \nOver 100\,000 Australians have lost their lives whilst serving for our country. About 1 million people have served\, or are currently serving for our country…. \n…and each year\, as a show of respect and remembrance\, we hold the Lighthorse Ultra Marathon\, a timed loop event in the Northern Suburbs of Perth. \nOur annual dawn service in the fields of Perry’s Paddock has the crisp morning air pierced with the eerie horn playing the last post and reveille before runners tackle the 24\, 12\, 6\, 3 or 1 hour events on a 2.5k circuit of limestone\, boardwalk and asphalt. \nIt has become an event tradition to offer FREE entry to all past and present service men and women\, regardless of their nationality as our humble way of saying thanks and we will continue with this tradition forever. They are joined by hundreds of other runners from our community. \nWe proudly partner with event charity Run 4 Resilience who work with returned personal facing the task of integration back into civilian life and we encourage you to give generously. \nThe Lighthorse Ultra is an event that captures an atmosphere like no other running event you have ever been a part of. So please\, come and join us as we tackle a truly respectful and memorable ultra marathon. \nWe will ALWAYS remember them.
URL:https://ultraserieswa.com.au/event/lighthorse2020/
LOCATION:Yellagonga Regional Park\, Ocean Reef Road\, Woodvale\, WA\, 6026\, Australia
ATTACH;FMTTYPE=image/jpeg:https://ultraserieswa.com.au/wp-content/uploads/2020/02/llight-horse.jpg
ORGANIZER;CN="Ultra%20Series%20WA":MAILTO:shaun@ultraserieswa.com.au
END:VEVENT
END:VCALENDAR