BEGIN:VCALENDAR
VERSION:2.0
PRODID:-//Ultra Series WA - ECPv5.3.1.1//NONSGML v1.0//EN
CALSCALE:GREGORIAN
METHOD:PUBLISH
X-WR-CALNAME:Ultra Series WA
X-ORIGINAL-URL:https://ultraserieswa.com.au
X-WR-CALDESC:Events for Ultra Series WA
BEGIN:VTIMEZONE
TZID:Australia/Perth
BEGIN:STANDARD
TZOFFSETFROM:+0800
TZOFFSETTO:+0800
TZNAME:AWST
DTSTART:20210101T000000
END:STANDARD
END:VTIMEZONE
BEGIN:VEVENT
DTSTART;TZID=Australia/Perth:20210305T170000
DTEND;TZID=Australia/Perth:20210307T120000
DTSTAMP:20210226T100712
CREATED:20200526T032331Z
LAST-MODIFIED:20210219T001151Z
UID:1152-1614963600-1615118400@ultraserieswa.com.au
SUMMARY:Trails of Kings & Queens
DESCRIPTION:History tells us that many Kings and Queens of centuries past were ruthless\, sadistic and resorted to torture. So we thought “why let history be forgotten?” \nI mean\, who chooses one of the most iconic Mountain Bike parks in WA and decides a trail running weekend would be a great idea? More switchbacks per kilometre than ANY trail event! Almost entirely single trail through hills and forests. Always running straight up or straight down. Jumps\, steep climbs\, impossible hikes\, berms and relentless corners. Some may call it sadistic. We call it PERFECT! \n“This event is hands down the best trail running in the state!!” – winner Trails & Ales 2020. \nBut don’t worry\, the family friendly camping\, the cool swimming in the lake\, tree rope swings\, kayaking\, bbqs\, wood fired pizzas\, hot showers and incredible atmosphere with the whole family for the weekend make for one incredible running festival.
URL:https://ultraserieswa.com.au/event/trails-of-kings-queens/
LOCATION:Linga Longa Bridgetown\, Linga Longa Bike Park\, Southampton\, WA\, Australia
ATTACH;FMTTYPE=image/jpeg:https://ultraserieswa.com.au/wp-content/uploads/2020/05/kings.jpg
ORGANIZER;CN="Ultra%20Series%20WA":MAILTO:shaun@ultraserieswa.com.au
END:VEVENT
END:VCALENDAR