BEGIN:VCALENDAR
VERSION:2.0
PRODID:-//Ultra Series WA - ECPv5.3.1.1//NONSGML v1.0//EN
CALSCALE:GREGORIAN
METHOD:PUBLISH
X-WR-CALNAME:Ultra Series WA
X-ORIGINAL-URL:https://ultraserieswa.com.au
X-WR-CALDESC:Events for Ultra Series WA
BEGIN:VTIMEZONE
TZID:Australia/Perth
BEGIN:STANDARD
TZOFFSETFROM:+0800
TZOFFSETTO:+0800
TZNAME:AWST
DTSTART:20200101T000000
END:STANDARD
END:VTIMEZONE
BEGIN:VEVENT
DTSTART;TZID=Australia/Perth:20201206T030000
DTEND;TZID=Australia/Perth:20201206T120000
DTSTAMP:20210226T100805
CREATED:20200129T024933Z
LAST-MODIFIED:20200526T093950Z
UID:938-1607223600-1607256000@ultraserieswa.com.au
SUMMARY:Yaberoo Ultra
DESCRIPTION:I don’t know how many times I ran the trails of Yaberoo Budjara before I made the effort to discover how it really came about. I took for granted that it was just something that was there and it was at my backdoor to utilise. A unique and wonderful strip of beautiful forever bushland in the heart of suburbia in Perth’s Northern Suburbs. \nThe Whadjuk peoples have used this corridor of land for tens of thousands of years before us. Travelling along the wetlands between the swan estuaries to Yanchep and even as far North as Moore River\, the sandy hills between the corridor and the coast gave them some protection on their travels during harsh Winters. \nYaberoo Budjara translates to ‘Land of the peoples North of Perth’ and to have an event that runs along this trail is a privileged opportunity for us to acknowledge the history of the region and our country’s first peoples. \nRace distances of 15\, 25 and 50k are available for you to immerse yourselves in the beautiful coastal bushlands along the limestone trail. \nEntries open 1 August
URL:https://ultraserieswa.com.au/event/yaberoo-ultra/
LOCATION:Yaberoo Trail\, Burns Beach Road\, Joondalup\, WA\, Australia
CATEGORIES:Home
ATTACH;FMTTYPE=image/jpeg:https://ultraserieswa.com.au/wp-content/uploads/2020/01/Yaberoo-.jpg
ORGANIZER;CN="Ultra%20Series%20WA":MAILTO:shaun@ultraserieswa.com.au
END:VEVENT
END:VCALENDAR